BEGIN:VCALENDAR
PRODID:-//IFDN//ICS Generator//FR
VERSION:2.0
CALSCALE:GREGORIAN
METHOD:PUBLISH
X-WR-CALNAME:Bar MItsva Noah
X-WR-TIMEZONE:Asia/Hebron
BEGIN:VTIMEZONE
TZID:Asia/Hebron
X-LIC-LOCATION:Asia/Hebron
BEGIN:STANDARD
TZOFFSETFROM:+0300
TZOFFSETTO:+0200
TZNAME:EET
DTSTART:20241026T010000
END:STANDARD
BEGIN:DAYLIGHT
TZOFFSETFROM:+0200
TZOFFSETTO:+0300
TZNAME:EEST
DTSTART:20250412T030000
END:DAYLIGHT
BEGIN:STANDARD
TZOFFSETFROM:+0300
TZOFFSETTO:+0200
TZNAME:EET
DTSTART:20251025T010000
END:STANDARD
BEGIN:DAYLIGHT
TZOFFSETFROM:+0200
TZOFFSETTO:+0300
TZNAME:EEST
DTSTART:20260328T030000
END:DAYLIGHT
BEGIN:STANDARD
TZOFFSETFROM:+0300
TZOFFSETTO:+0200
TZNAME:EET
DTSTART:20261024T010000
END:STANDARD
BEGIN:DAYLIGHT
TZOFFSETFROM:+0200
TZOFFSETTO:+0300
TZNAME:EEST
DTSTART:20270327T030000
END:DAYLIGHT
BEGIN:STANDARD
TZOFFSETFROM:+0300
TZOFFSETTO:+0200
TZNAME:EET
DTSTART:20271030T010000
END:STANDARD
BEGIN:DAYLIGHT
TZOFFSETFROM:+0200
TZOFFSETTO:+0300
TZNAME:EEST
DTSTART:20280325T030000
END:DAYLIGHT
END:VTIMEZONE
BEGIN:VEVENT
UID:c4c16242fad6e82d@ics.carteevent.fr
DTSTAMP:20260331T053341Z
DTSTART;TZID=Asia/Hebron:20260514T090000
DTEND;TZID=Asia/Hebron:20260514T170000
SUMMARY:Bar MItsva Noah
LOCATION:salle Aloha Sky Pool  David Pinkas St 55\, Netanya
DESCRIPTION:Lien Waze: https://ul.waze.com/ul?place=ChIJNbEqegc_HRUR7GqxUW49D4Q&ll=32.31492400%2C34.87377140&navigate=yes&utm_campaign=default&utm_source=waze_website&utm_medium=lm_share_location
URL;VALUE=URI:https://ul.waze.com/ul?place=ChIJNbEqegc_HRUR7GqxUW49D4Q&ll=32.31492400%2C34.87377140&navigate=yes&utm_campaign=default&utm_source=waze_website&utm_medium=lm_share_location
END:VEVENT
END:VCALENDAR
