BEGIN:VCALENDAR
PRODID:-//IFDN//ICS Generator//FR
VERSION:2.0
CALSCALE:GREGORIAN
METHOD:PUBLISH
X-WR-CALNAME:Soirée Bar Mitsva Noah
X-WR-TIMEZONE:Asia/Hebron
BEGIN:VTIMEZONE
TZID:Asia/Hebron
X-LIC-LOCATION:Asia/Hebron
BEGIN:STANDARD
TZOFFSETFROM:+0300
TZOFFSETTO:+0200
TZNAME:EET
DTSTART:20241026T010000
END:STANDARD
BEGIN:DAYLIGHT
TZOFFSETFROM:+0200
TZOFFSETTO:+0300
TZNAME:EEST
DTSTART:20250412T030000
END:DAYLIGHT
BEGIN:STANDARD
TZOFFSETFROM:+0300
TZOFFSETTO:+0200
TZNAME:EET
DTSTART:20251025T010000
END:STANDARD
BEGIN:DAYLIGHT
TZOFFSETFROM:+0200
TZOFFSETTO:+0300
TZNAME:EEST
DTSTART:20260328T030000
END:DAYLIGHT
BEGIN:STANDARD
TZOFFSETFROM:+0300
TZOFFSETTO:+0200
TZNAME:EET
DTSTART:20261024T010000
END:STANDARD
BEGIN:DAYLIGHT
TZOFFSETFROM:+0200
TZOFFSETTO:+0300
TZNAME:EEST
DTSTART:20270327T030000
END:DAYLIGHT
BEGIN:STANDARD
TZOFFSETFROM:+0300
TZOFFSETTO:+0200
TZNAME:EET
DTSTART:20271030T010000
END:STANDARD
BEGIN:DAYLIGHT
TZOFFSETFROM:+0200
TZOFFSETTO:+0300
TZNAME:EEST
DTSTART:20280325T030000
END:DAYLIGHT
END:VTIMEZONE
BEGIN:VEVENT
UID:ba2734daa5ce6d8d@ics.carteevent.fr
DTSTAMP:20260331T054218Z
DTSTART;TZID=Asia/Hebron:20260517T193000
DTEND;TZID=Asia/Hebron:20260517T235900
SUMMARY:Soirée Bar Mitsva Noah
LOCATION:la salle Kahi Event Resort Hashita\, Industrial Park  Emek Hefer
DESCRIPTION:Lien Waze: https://waze.com/ul/hsvbb619mk
URL;VALUE=URI:https://waze.com/ul/hsvbb619mk
END:VEVENT
END:VCALENDAR
